BEGIN:VCALENDAR
VERSION:2.0
PRODID:-//wp-events-plugin.com//7.2.3.1//EN
BEGIN:VEVENT
UID:1@eloiministries.us.org
DTSTART:20251218T213000Z
DTEND:20251218T220000Z
DTSTAMP:20251211T075311Z
URL:https://eloiministries.us.org/events/join-us-igniting-our-lights-for-i
 mmigration-justice-in-vermont/
SUMMARY:Join Us: Igniting Our Lights for Immigration Justice in Vermont
DESCRIPTION:On Thursday\, December 18\, faith communities from across Verm
 ont will gather in a powerful display of solidarity and hope. In honor of
  International Migrants Day\, we are coming together for a peaceful vigil
  to advocate for the rights\, dignity\, and global contributions of migran
 t workers and their families.\nWe are proud to announce that Pastor Steve
 n Tendo will be participating as a keynote speaker for this event. As b
 oth a pastor and an immigrant\, Pastor Tendo will be sharing his personal 
 journey and offering words on the vital importance of dignity\, inclusion\
 , and justice for all who seek a home in our communities.\n\nA Beacon of H
 ope\nWe aim to light 200 candles on the lawn of the First Unitarian Univ
 ersalist Society. Each flame represents our collective commitment to prote
 cting migrant rights and promoting fair treatment for everyone\, regardles
 s of where they were born.\n\nEvent Details\n\n 	\nDate: Thursday\, Decem
 ber 18\, 2025\n\n 	\nTime: 4:30 PM – 5:30 PM\n\n 	\nLocation: Front st
 eps &amp\; lawn of the First Unitarian Universalist Society of Burlington
  (152 Pearl St.\, Burlington\, VT – top of Church Street)\n\n 	\nAttire
 : This is an outdoor event\, so please dress warmly!\n\n\nHow You Can He
 lp\nWe invite you to join us in person to stand with our immigrant neighbo
 rs. Your presence is a powerful testament to the strength of our faith-bas
 ed community.\n\n\n 	\nSpread the Word: Share this post or the Facebook 
 Event Link with your network.\n\n 	\nAttend: Bring your family\, your fr
 iends\, and your commitment to justice.\n\n\n\n“We are delighted that St
 even will be able to offer important words from his personal experience as
  a pastor and immigrant calling for dignity\, inclusion and justice.” 
 — Marybeth Redmond\, event organizer.\n\nLet us light the way together.
 \nSponsored by: Vermont Faith Communities for Immigration Justice Contac
 t: John.McMahon@essexcatholic.org
ATTACH;FMTTYPE=image/jpeg:https://eloiministries.us.org/wp-content/uploads
 /2025/12/Immigration-Action-flyer-Nov.-13-2.png
LOCATION:Burlington\, 152 Pearl St.\, Burlington\, VT\, Vermont\, USA\, Uni
 ted States
X-APPLE-STRUCTURED-LOCATION;VALUE=URI;X-ADDRESS=152 Pearl St.\, Burlington\
 , VT\, Vermont\, USA\, United States;X-APPLE-RADIUS=100;X-TITLE=Burlington
 :geo:0,0
END:VEVENT
BEGIN:VEVENT
UID:2@eloiministries.us.org
DTSTART:20260308T210000Z
DTEND:20260308T220000Z
DTSTAMP:20260302T090022Z
URL:https://eloiministries.us.org/events/community-celebration-join-pastor
 -steven-to-celebrate-his-freedom/
SUMMARY:Community Celebration – Join Pastor Steven to Celebrate His Freed
 om!
DESCRIPTION:Burlington USA Chapter: Community Celebration\nJoin Pastor Stev
 en to Celebrate His Freedom!\n\n📅 Date: Sunday\, March 8\, 2026\n🕑 T
 ime: 2:00 PM – 4:00 PM\n📍 Venue: The Film House at Main Street Landin
 g\, Burlington\, USA\n\nAbout the Event:\nJoin us for a special Community 
 Celebration as we honor Pastor Steven and celebrate his freedom! Hear dire
 ctly from him about his impactful community work through ELOI Ministries\,
  and discover how YOU can get involved.\n\nELOI Ministries is committed to
  Justice\, Dignity &amp\; Hope for all.\n\nThis is a free\, open community
  event. All are welcome!\n\nHow to Get Involved:\nTo learn more about ELOI
  Ministries and their community programs\, join us at the event or reach o
 ut through our website.
ATTACH;FMTTYPE=image/jpeg:https://eloiministries.us.org/wp-content/uploads
 /2026/03/WhatsApp-Image-2026-03-01-at-11.33.33.jpeg
LOCATION:The Film House at Main Street Landing\, Main Street Landing\, Burl
 ington \, United States
X-APPLE-STRUCTURED-LOCATION;VALUE=URI;X-ADDRESS=Main Street Landing\, Burli
 ngton \, United States;X-APPLE-RADIUS=100;X-TITLE=The Film House at Main S
 treet Landing:geo:0,0
END:VEVENT
END:VCALENDAR